BEGIN:VCALENDAR
VERSION:2.0
PRODID:-//thepfoundation.org//NONSGML kigkonsult.se iCalcreator 2.30.10//
CALSCALE:GREGORIAN
METHOD:PUBLISH
UID:73dbb940-7070-4984-a6ae-43e093d4b29b
X-WR-CALDESC:
X-WR-RELCALID:4a57358aae3c0f9ef5d69f61be873e4c
X-WR-TIMEZONE:America/Chicago
BEGIN:VTIMEZONE
TZID:America/Chicago
BEGIN:STANDARD
TZNAME:CST
DTSTART:20251102T020000
TZOFFSETFROM:-0500
TZOFFSETTO:-0600
RDATE:20261101T020000
RDATE:20271107T020000
END:STANDARD
BEGIN:DAYLIGHT
TZNAME:CDT
DTSTART:20260308T020000
TZOFFSETFROM:-0600
TZOFFSETTO:-0500
RDATE:20270314T020000
END:DAYLIGHT
END:VTIMEZONE
BEGIN:VEVENT
UID:f2289fab-9822-4fff-b209-455426b7d669
DTSTAMP:20260423T214010Z
DESCRIPTION:
DTSTART;TZID=America/Chicago:20260512T180000
DTEND;TZID=America/Chicago:20260512T210000
LOCATION:
SUMMARY:Scholarship Reception
END:VEVENT
END:VCALENDAR
